BEGIN:VCALENDAR
VERSION:2.0
PRODID:-//Promises to Israel - ECPv6.15.20//NONSGML v1.0//EN
CALSCALE:GREGORIAN
METHOD:PUBLISH
X-ORIGINAL-URL:https://promisestoisrael.org
X-WR-CALDESC:Events for Promises to Israel
REFRESH-INTERVAL;VALUE=DURATION:PT1H
X-Robots-Tag:noindex
X-PUBLISHED-TTL:PT1H
BEGIN:VTIMEZONE
TZID:America/New_York
BEGIN:DAYLIGHT
TZOFFSETFROM:-0500
TZOFFSETTO:-0400
TZNAME:EDT
DTSTART:20170312T070000
END:DAYLIGHT
BEGIN:STANDARD
TZOFFSETFROM:-0400
TZOFFSETTO:-0500
TZNAME:EST
DTSTART:20171105T060000
END:STANDARD
BEGIN:DAYLIGHT
TZOFFSETFROM:-0500
TZOFFSETTO:-0400
TZNAME:EDT
DTSTART:20180311T070000
END:DAYLIGHT
BEGIN:STANDARD
TZOFFSETFROM:-0400
TZOFFSETTO:-0500
TZNAME:EST
DTSTART:20181104T060000
END:STANDARD
BEGIN:DAYLIGHT
TZOFFSETFROM:-0500
TZOFFSETTO:-0400
TZNAME:EDT
DTSTART:20190310T070000
END:DAYLIGHT
BEGIN:STANDARD
TZOFFSETFROM:-0400
TZOFFSETTO:-0500
TZNAME:EST
DTSTART:20191103T060000
END:STANDARD
BEGIN:DAYLIGHT
TZOFFSETFROM:-0500
TZOFFSETTO:-0400
TZNAME:EDT
DTSTART:20200308T070000
END:DAYLIGHT
BEGIN:STANDARD
TZOFFSETFROM:-0400
TZOFFSETTO:-0500
TZNAME:EST
DTSTART:20201101T060000
END:STANDARD
BEGIN:DAYLIGHT
TZOFFSETFROM:-0500
TZOFFSETTO:-0400
TZNAME:EDT
DTSTART:20210314T070000
END:DAYLIGHT
BEGIN:STANDARD
TZOFFSETFROM:-0400
TZOFFSETTO:-0500
TZNAME:EST
DTSTART:20211107T060000
END:STANDARD
END:VTIMEZONE
BEGIN:VEVENT
DTSTART;TZID=America/New_York:20200216T090000
DTEND;TZID=America/New_York:20200216T200000
DTSTAMP:20260420T071619
CREATED:20191026T235710Z
LAST-MODIFIED:20191026T235710Z
UID:4875-1581843600-1581883200@promisestoisrael.org
SUMMARY:Independent Bible Fellowship Church - Harrington\, DE
DESCRIPTION:I will be speaking in the morning and evening service on Anti-Semitism in the church and in the world against Israel
URL:https://promisestoisrael.org/event/independent-bible-fellowship-church-harrington-de-2/
LOCATION:NC
CATEGORIES:Speak
END:VEVENT
BEGIN:VEVENT
DTSTART;TZID=America/New_York:20200209T090000
DTEND;TZID=America/New_York:20200209T120000
DTSTAMP:20260420T071619
CREATED:20191026T235314Z
LAST-MODIFIED:20191026T235314Z
UID:4873-1581238800-1581249600@promisestoisrael.org
SUMMARY:Chinese Christian Church - Baltimore\, MD
DESCRIPTION:I will be speaking at the 9:30 Worship Service and then speaking in the 11:00 Sunday School hour.
URL:https://promisestoisrael.org/event/chinese-christian-church-baltimore-md-4/
LOCATION:Chinese Christian Church\, 1800 Cromwell Bridge Road\, Baltimore\, MD\, 21234\, United States
CATEGORIES:Speak
END:VEVENT
BEGIN:VEVENT
DTSTART;TZID=America/New_York:20191124T100000
DTEND;TZID=America/New_York:20191124T110000
DTSTAMP:20260420T071619
CREATED:20191027T002659Z
LAST-MODIFIED:20191027T002659Z
UID:4882-1574589600-1574593200@promisestoisrael.org
SUMMARY:Grace Bible Church - Charlotte\, NC
DESCRIPTION:I will be beginning a new series in Sunday School on the Life of Messiah from a Jewish perspective.  This is a study through the Gospels.
URL:https://promisestoisrael.org/event/grace-bible-church-charlotte-nc-8/
LOCATION:Grace Bible Church\, 8820 Idlewild Road\, Charlotte\, NC\, 28227\, United States
CATEGORIES:Speak
END:VEVENT
BEGIN:VEVENT
DTSTART;TZID=America/New_York:20191117T100000
DTEND;TZID=America/New_York:20191117T110000
DTSTAMP:20260420T071619
CREATED:20191027T002519Z
LAST-MODIFIED:20191027T002519Z
UID:4881-1573984800-1573988400@promisestoisrael.org
SUMMARY:Grace Bible Church - Charlotte\, NC
DESCRIPTION:I will be beginning a new series in Sunday School on the Life of Messiah from a Jewish perspective.  This is a study through the Gospels.
URL:https://promisestoisrael.org/event/grace-bible-church-charlotte-nc-7/
LOCATION:Grace Bible Church\, 401 East Park Avenue\, Valdosta\, GA\, 31602\, United States
CATEGORIES:Speak
END:VEVENT
BEGIN:VEVENT
DTSTART;TZID=America/New_York:20191110T100000
DTEND;TZID=America/New_York:20191110T110000
DTSTAMP:20260420T071619
CREATED:20191027T002308Z
LAST-MODIFIED:20191027T002308Z
UID:4880-1573380000-1573383600@promisestoisrael.org
SUMMARY:Grace Bible Church - Charlotte\, NC
DESCRIPTION:I will be beginning a new series in Sunday School on the Life of Messiah from a Jewish perspective.  This is a study through the Gospels.
URL:https://promisestoisrael.org/event/grace-bible-church-charlotte-nc-6/
LOCATION:Grace Bible Church\, 8820 Idlewild Road\, Charlotte\, NC\, 28227\, United States
CATEGORIES:Speak
END:VEVENT
BEGIN:VEVENT
DTSTART;TZID=America/New_York:20191103T093000
DTEND;TZID=America/New_York:20191103T190000
DTSTAMP:20260420T071619
CREATED:20190904T201013Z
LAST-MODIFIED:20190904T201013Z
UID:4408-1572773400-1572807600@promisestoisrael.org
SUMMARY:Grace Baptist Church - Mount Pleasant Mills\, PA
DESCRIPTION:I will be speaking in at the 9:45 Worship Service and the 6:00 Evening Service.
URL:https://promisestoisrael.org/event/grace-baptist-church-mount-pleasant-mills-pa-2/
LOCATION:Grace Baptist Church\, 8704 Rt 104\, Mt. Pleasant Mills\, PA\, 17853\, United States
CATEGORIES:Speak
END:VEVENT
BEGIN:VEVENT
DTSTART;TZID=America/New_York:20191102T080000
DTEND;TZID=America/New_York:20191102T170000
DTSTAMP:20260420T071619
CREATED:20190904T195626Z
LAST-MODIFIED:20190904T195705Z
UID:4406-1572681600-1572714000@promisestoisrael.org
SUMMARY:Pennsylvania State Sunday School Association - Antrim Brethren In Christ Church - Chambersburg\, PA
DESCRIPTION:I will be representing Ariel Ministries and teaching a workshop.
URL:https://promisestoisrael.org/event/pennsylvania-state-sunday-school-association-antrim-brethren-in-christ-church-chambersburg-pa/
LOCATION:Antrim Brethren in Christ Church\, 24 Kauffman Road E\, Chambersburg\, PA\, 17202\, United States
CATEGORIES:Speak
END:VEVENT
BEGIN:VEVENT
DTSTART;TZID=America/New_York:20191027T090000
DTEND;TZID=America/New_York:20191027T120000
DTSTAMP:20260420T071619
CREATED:20190904T195127Z
LAST-MODIFIED:20190904T195127Z
UID:4405-1572166800-1572177600@promisestoisrael.org
SUMMARY:Pleasant Plains Baptist Church - Matthews\, NC
DESCRIPTION:I will be speaking in the two morning worship times.
URL:https://promisestoisrael.org/event/pleasant-plains-baptist-church-matthews-nc-5/
LOCATION:Pleasant Plains Baptist Church\, 3316 Pleasant Plains Road\, Matthews\, NC\, 28105\, United States
CATEGORIES:Speak
END:VEVENT
BEGIN:VEVENT
DTSTART;TZID=America/New_York:20191013T093000
DTEND;TZID=America/New_York:20191013T120000
DTSTAMP:20260420T071619
CREATED:20190907T022644Z
LAST-MODIFIED:20190907T022644Z
UID:4436-1570959000-1570968000@promisestoisrael.org
SUMMARY:Trinity Baptist Church - Harriman\, TN
DESCRIPTION:I will be speaking in the morning worship service on New Covenant and its connect to believers today.
URL:https://promisestoisrael.org/event/trinity-baptist-church-harriman-tn-2/
LOCATION:Trinity Baptist Church\, 1729 Harriman Hwy\, Harriman\, TN\, 37748\, United States
CATEGORIES:Speak
END:VEVENT
BEGIN:VEVENT
DTSTART;TZID=America/New_York:20190922T093000
DTEND;TZID=America/New_York:20190922T120000
DTSTAMP:20260420T071619
CREATED:20190904T194500Z
LAST-MODIFIED:20190904T194500Z
UID:4403-1569144600-1569153600@promisestoisrael.org
SUMMARY:Rush Baptist Church - Danville\, PA
DESCRIPTION:I will be speaking in the Sunday school hour at 9:30 and the 10:30 morning worship
URL:https://promisestoisrael.org/event/rush-baptist-church-danville-pa-3/
LOCATION:Rush Baptist Church\, 410 Rushtown Road\, Danville\, PA\, 17821\, United States
CATEGORIES:Speak
END:VEVENT
BEGIN:VEVENT
DTSTART;TZID=America/New_York:20190217T093000
DTEND;TZID=America/New_York:20190217T120000
DTSTAMP:20260420T071619
CREATED:20181218T123840Z
LAST-MODIFIED:20181218T123840Z
UID:3204-1550395800-1550404800@promisestoisrael.org
SUMMARY:Baltimore Chinese Christian Church - Baltimore\, MD
DESCRIPTION:I will be speaking in the morning worship at 9:30 and the Sunday School hour at 11:00
URL:https://promisestoisrael.org/event/baltimore-chinese-christian-church-baltimore-md-3/
LOCATION:Baltimore Chinese Christian Church\, 1802 Cromwell Bridge Road\, Baltimore\, MD\, 21234\, United States
CATEGORIES:Speak
END:VEVENT
BEGIN:VEVENT
DTSTART;TZID=America/New_York:20190210T100000
DTEND;TZID=America/New_York:20190210T190000
DTSTAMP:20260420T071619
CREATED:20181218T123546Z
LAST-MODIFIED:20181218T123546Z
UID:3203-1549792800-1549825200@promisestoisrael.org
SUMMARY:Evergreen Christian Church - New Albany\, PA
DESCRIPTION:I will be speaking in the 10:00 Sunday School hour and the 11:00 worship service.  I will also be speaking at the 6:00 Evening Service.
URL:https://promisestoisrael.org/event/evergreen-christian-church-new-albany-pa-3/
LOCATION:Evergreen Christian Church\, 103 North Street\, New Albany\, PA\, 18833\, United States
CATEGORIES:Speak
END:VEVENT
BEGIN:VEVENT
DTSTART;TZID=America/New_York:20190203T093000
DTEND;TZID=America/New_York:20190203T190000
DTSTAMP:20260420T071619
CREATED:20181218T123135Z
LAST-MODIFIED:20181218T123135Z
UID:3202-1549186200-1549220400@promisestoisrael.org
SUMMARY:Calvary Baptist Church - Mt. Pleasant Mills\, PA
DESCRIPTION:I will be speaking in the morning worship at 9:45 and at the evening service at 6:00
URL:https://promisestoisrael.org/event/calvary-baptist-church-mt-pleasant-mills-pa/
LOCATION:Calvary Baptist Church – Mount Pleasant Mills\, PA\, 8704 Rt 104\, Mt. Pleasant Mills\, PA\, 17883\, United States
CATEGORIES:Speak
END:VEVENT
BEGIN:VEVENT
DTSTART;TZID=America/New_York:20190127T093000
DTEND;TZID=America/New_York:20190127T120000
DTSTAMP:20260420T071619
CREATED:20181218T122729Z
LAST-MODIFIED:20181218T122729Z
UID:3201-1548581400-1548590400@promisestoisrael.org
SUMMARY:Rush Baptist Church - Danville\, PA
DESCRIPTION:I will be speaking at the 9:30 Sunday School time and the morning worship at 11:00
URL:https://promisestoisrael.org/event/rush-baptist-church-danville-pa-2/
LOCATION:Rush Baptist Church\, 410 Rushtown Road\, Danville\, PA\, 17821\, United States
CATEGORIES:Speak
END:VEVENT
BEGIN:VEVENT
DTSTART;TZID=America/New_York:20190120T110000
DTEND;TZID=America/New_York:20190120T140000
DTSTAMP:20260420T071619
CREATED:20181218T122327Z
LAST-MODIFIED:20181218T122327Z
UID:3200-1547982000-1547992800@promisestoisrael.org
SUMMARY:Seven Points Christian Assembly - Sunbury\, PA
DESCRIPTION:I will be speaking in the morning worship service at 11:00 and at the afternoon service at 1:00
URL:https://promisestoisrael.org/event/seven-points-christian-assembly-sunbury-pa-2/
LOCATION:Seven Points Christian Assembly\, 1100 Captain Bloom Road\, Sunbury\, PA\, 17801\, United States
CATEGORIES:Speak
END:VEVENT
BEGIN:VEVENT
DTSTART;TZID=America/New_York:20190113T093000
DTEND;TZID=America/New_York:20190113T190000
DTSTAMP:20260420T071619
CREATED:20181218T120824Z
LAST-MODIFIED:20181218T120824Z
UID:3197-1547371800-1547406000@promisestoisrael.org
SUMMARY:Grace Baptist Church - Mount Pleasant Mills\, PA.
DESCRIPTION:I will be speaking in the morning worship at 9:45 and the evening service at 6:00
URL:https://promisestoisrael.org/event/grace-baptist-church-mount-pleasant-mills-pa/
LOCATION:Calvary Baptist Church – Mount Pleasant Mills\, PA\, 8704 Rt 104\, Mt. Pleasant Mills\, PA\, 17883\, United States
CATEGORIES:Speak
END:VEVENT
BEGIN:VEVENT
DTSTART;TZID=America/New_York:20181209T093000
DTEND;TZID=America/New_York:20181209T140000
DTSTAMP:20260420T071619
CREATED:20181016T212519Z
LAST-MODIFIED:20181016T212519Z
UID:3093-1544347800-1544364000@promisestoisrael.org
SUMMARY:Seven Points Christian Assembly - Sunbury\, PA
DESCRIPTION:I will be speaking in the Family Bible Hour and the service after the meal.
URL:https://promisestoisrael.org/event/seven-points-christian-assembly-sunbury-pa/
LOCATION:Seven Points Christian Assembly\, 1100 Captain Bloom Road\, Sunbury\, PA\, 17801\, United States
CATEGORIES:Speak
END:VEVENT
BEGIN:VEVENT
DTSTART;TZID=America/New_York:20181118T093000
DTEND;TZID=America/New_York:20181118T190000
DTSTAMP:20260420T071619
CREATED:20181016T210944Z
LAST-MODIFIED:20181016T210944Z
UID:3092-1542533400-1542567600@promisestoisrael.org
SUMMARY:Ridgeview Evangelical Free - Northumberland\, PA
DESCRIPTION:Topic to be announced \nWill be speaking in Sunday School\, Morning and Evening Services
URL:https://promisestoisrael.org/event/ridgeview-evangelical-free-northumberland-pa/
LOCATION:Ridgeview Evangelical Free Church\, 1318 Susquehanna Trail\, Northumberland\, 17857\, United States
CATEGORIES:Speak
END:VEVENT
BEGIN:VEVENT
DTSTART;TZID=America/New_York:20181111T093000
DTEND;TZID=America/New_York:20181111T190000
DTSTAMP:20260420T071619
CREATED:20181016T210702Z
LAST-MODIFIED:20181016T210702Z
UID:3089-1541928600-1541962800@promisestoisrael.org
SUMMARY:Grace Baptist Church - Mt Pleasant Mills\, PA
DESCRIPTION:I will be speaking on the Jewishness of the Scriptures both Sunday Worship Service and the Evening Service
URL:https://promisestoisrael.org/event/grace-baptist-church-mt-pleasant-mills-pa-3/
LOCATION:Grace Baptist Church\, 8704 Rt 104\, Mt. Pleasant Mills\, PA\, 17853\, United States
CATEGORIES:Speak
END:VEVENT
BEGIN:VEVENT
DTSTART;TZID=America/New_York:20181110T100000
DTEND;TZID=America/New_York:20181110T120000
DTSTAMP:20260420T071619
CREATED:20181016T205632Z
LAST-MODIFIED:20181016T205632Z
UID:3084-1541844000-1541851200@promisestoisrael.org
SUMMARY:Seed of Abraham Messianic Congregation - Lititz\, PA
DESCRIPTION:I will be following up on the Doctrine of Christ
URL:https://promisestoisrael.org/event/seed-of-abraham-messianic-congregation-lititz-pa-39/
LOCATION:NC
CATEGORIES:Speak
END:VEVENT
BEGIN:VEVENT
DTSTART;TZID=America/New_York:20181104T090000
DTEND;TZID=America/New_York:20181104T120000
DTSTAMP:20260420T071619
CREATED:20180620T001244Z
LAST-MODIFIED:20180620T001244Z
UID:3024-1541322000-1541332800@promisestoisrael.org
SUMMARY:Baltimore Chinese Christian Church - Baltimore\, MD
DESCRIPTION:I will be speaking in the English service and then at there Sunday School.
URL:https://promisestoisrael.org/event/baltimore-chinese-christian-church-baltimore-md-2/
LOCATION:Baltimore Chinese Christian Church\, 1802 Cromwell Bridge Road\, Baltimore\, MD\, 21234\, United States
CATEGORIES:Speak
END:VEVENT
BEGIN:VEVENT
DTSTART;TZID=America/New_York:20181103T080000
DTEND;TZID=America/New_York:20181103T170000
DTSTAMP:20260420T071619
CREATED:20180620T001832Z
LAST-MODIFIED:20180620T001832Z
UID:3026-1541232000-1541264400@promisestoisrael.org
SUMMARY:Pennsylvania State Sunday School Convention - Newville\, PA
DESCRIPTION:I will have a display table and will be doing a work shop.
URL:https://promisestoisrael.org/event/pennsylvania-state-sunday-school-convention-newville-pa/
LOCATION:Pennsylvania State Sunday School Convention – Newville First Church of God – Newville\, PA\, 475 Shippensburg Road\, Newville\, PA\, 17241\, United States
CATEGORIES:Speak
END:VEVENT
BEGIN:VEVENT
DTSTART;TZID=America/New_York:20181028T093000
DTEND;TZID=America/New_York:20181028T120000
DTSTAMP:20260420T071619
CREATED:20181016T210135Z
LAST-MODIFIED:20181016T210135Z
UID:3086-1540719000-1540728000@promisestoisrael.org
SUMMARY:Rush Baptist Church - Danville\, PA
DESCRIPTION:I will be speaking on the Jewishness of the Scriptures in both Sunday School and Morning Worship.
URL:https://promisestoisrael.org/event/rush-baptist-church-danville-pa/
LOCATION:Rush Baptist Church\, 410 Rushtown Road\, Danville\, PA\, 17821\, United States
CATEGORIES:Speak
END:VEVENT
BEGIN:VEVENT
DTSTART;TZID=America/New_York:20181021T190000
DTEND;TZID=America/New_York:20181021T200000
DTSTAMP:20260420T071619
CREATED:20180620T000830Z
LAST-MODIFIED:20180620T000830Z
UID:3023-1540148400-1540152000@promisestoisrael.org
SUMMARY:High View Church of God - Ronks\, PA
DESCRIPTION:I will be speaking in the evening service.
URL:https://promisestoisrael.org/event/high-view-church-of-god-ronks-pa-4/
LOCATION:High View Church of God\, 2470 Leaman Road\, Ronks\, PA\, 17572\, United States
CATEGORIES:Speak
END:VEVENT
BEGIN:VEVENT
DTSTART;TZID=America/New_York:20181021T090000
DTEND;TZID=America/New_York:20181021T120000
DTSTAMP:20260420T071619
CREATED:20180620T000553Z
LAST-MODIFIED:20180620T000626Z
UID:3021-1540112400-1540123200@promisestoisrael.org
SUMMARY:Grace Brethren Chruch - Manheim\, PA
DESCRIPTION:I will be speaking on the Israel in the Morning Worship service
URL:https://promisestoisrael.org/event/grace-brethren-chruch-manheim-pa/
LOCATION:Grace Brethren Church\, 333 E. High Street\, Manheim\, PA\, 17545\, United States
CATEGORIES:Speak
END:VEVENT
BEGIN:VEVENT
DTSTART;TZID=America/New_York:20181020T100000
DTEND;TZID=America/New_York:20181020T120000
DTSTAMP:20260420T071619
CREATED:20181016T205408Z
LAST-MODIFIED:20181016T205408Z
UID:3083-1540029600-1540036800@promisestoisrael.org
SUMMARY:Seed of Abraham Messianic Congregation - Lititz\, PA   17543
DESCRIPTION:After being away for a couple of weeks I will be continuing my series on Doctrines – Doctrine of Christ [Messiah]
URL:https://promisestoisrael.org/event/seed-of-abraham-messianic-congregation-lititz-pa-17543/
LOCATION:NC
CATEGORIES:Speak
END:VEVENT
BEGIN:VEVENT
DTSTART;TZID=America/New_York:20181014T090000
DTEND;TZID=America/New_York:20181014T120000
DTSTAMP:20260420T071619
CREATED:20180727T210251Z
LAST-MODIFIED:20180727T210251Z
UID:3044-1539507600-1539518400@promisestoisrael.org
SUMMARY:Faith Baptist Church - St. Mary's\, PA
DESCRIPTION:I will be speaking in the Sunday School hour and the Morning Worship
URL:https://promisestoisrael.org/event/faith-baptist-church-st-marys-pa-3/
LOCATION:Faith Baptist Church\, 288 W. Creek Road\, St. Mary's\, PA\, 58746\, United States
CATEGORIES:Speak
END:VEVENT
BEGIN:VEVENT
DTSTART;TZID=America/New_York:20181007T080000
DTEND;TZID=America/New_York:20181007T170000
DTSTAMP:20260420T071619
CREATED:20180620T000338Z
LAST-MODIFIED:20180620T000338Z
UID:3019-1538899200-1538931600@promisestoisrael.org
SUMMARY:Fellowship Chapel - Jarrettsville\, MD
DESCRIPTION:I will be speaking in the Missions awareness Sunday.
URL:https://promisestoisrael.org/event/fellowship-chapel-jarrettsville-md/
LOCATION:Fellowship Chapel\, 3821 Federal Hill Road\, Jarrettsville\, MD\, 21084\, United States
CATEGORIES:Speak
END:VEVENT
BEGIN:VEVENT
DTSTART;TZID=America/New_York:20180930T093000
DTEND;TZID=America/New_York:20180930T120000
DTSTAMP:20260420T071619
CREATED:20180727T205314Z
LAST-MODIFIED:20180727T205314Z
UID:3042-1538299800-1538308800@promisestoisrael.org
SUMMARY:North Spencer Baptist Bible Church - North Spencer\, NY
DESCRIPTION:I will be speaking in the 9:30 Sunday School hour and the 11:00 Morning Worship Service
URL:https://promisestoisrael.org/event/north-spencer-baptist-bible-church-north-spencer-ny/
LOCATION:Bible Baptist Church of North Spencer\, 721 Ithaca Road\, Spencer\, NY\, 14883\, United States
CATEGORIES:Speak
END:VEVENT
BEGIN:VEVENT
DTSTART;TZID=America/New_York:20180929T100000
DTEND;TZID=America/New_York:20180929T120000
DTSTAMP:20260420T071619
CREATED:20180808T100503Z
LAST-MODIFIED:20180808T100503Z
UID:3057-1538215200-1538222400@promisestoisrael.org
SUMMARY:Seed of Abraham Messianic Congregation - Lititz\, PA
DESCRIPTION:We will be continuing our study on the doctrines of Scripture.
URL:https://promisestoisrael.org/event/seed-of-abraham-messianic-congregation-lititz-pa-38/
LOCATION:Seed of Abraham Congregation\, 813 Rothsville Road\, Lititz\, PA\, 17543\, United States
CATEGORIES:Speak
END:VEVENT
END:VCALENDAR